BEGIN:VCALENDAR
VERSION:2.0
PRODID:icalendar-ruby
CALSCALE:GREGORIAN
METHOD:PUBLISH
BEGIN:VEVENT
DTSTAMP:20260424T183541Z
UID:b0654fba-df22-4650-afbc-576918211844
DTSTART:20221028T100000
DTEND:20221030T160000
DESCRIPTION:<h2><strong>Boatica 2022</strong></h2><p><span style="color: rg
 b(48\, 48\, 48)\;">Previously known as the Cape Town International Boat Sh
 ow\, Boatica Cape Town\, is Africa's largest boating exhibition set agains
 t the backdrop of the beautiful Mother City. The event features manufactur
 ers and buyers of luxury boats\, accessories\, and marine equipment\, a on
 ce-in-a-lifetime VIP Boat Cruise\, 120 exhibiting companies\, over 12 live
  on-water activities\, and a luxury lifestyle exhibition for a premium sho
 pping experience.</span></p><p><span style="color: rgb(48\, 48\, 48)\;">Fr
 om sailing competitions to SUP racing\, and a host of other activities\, t
 here is plenty to see and do.</span></p><p><strong style="color: rgb(48\, 
 48\, 48)\;">Date:</strong><span style="color: rgb(48\, 48\, 48)\;"> 28-30
  October 2022</span></p><p><strong style="color: rgb(48\, 48\, 48)\;">Venu
 e:</strong><span style="color: rgb(48\, 48\, 48)\;"> V&A Waterfront\, Cap
 e Town </span></p><p><br></p><p><strong>Show dates and times:</strong></p
 ><p>Friday 28th October - 10am to 6pm</p><p>Saturday 29th October - 9am to
  6pm</p><p>Sunday 30th October - 9am to 4pm</p>
LOCATION:19 Dock Road\, V&A Waterfront Cape Town
SUMMARY:BOATICA 2022
URL;VALUE=URI:https://boatica.howler.co.za/boatica2022
END:VEVENT
END:VCALENDAR
